BEGIN:VCALENDAR
VERSION:2.0
PRODID:-//British Wheelchair Bowls Association - ECPv6.1.3//NONSGML v1.0//EN
CALSCALE:GREGORIAN
METHOD:PUBLISH
X-WR-CALNAME:British Wheelchair Bowls Association
X-ORIGINAL-URL:http://www.bwba.org.uk
X-WR-CALDESC:Events for British Wheelchair Bowls Association
REFRESH-INTERVAL;VALUE=DURATION:PT1H
X-Robots-Tag:noindex
X-PUBLISHED-TTL:PT1H
BEGIN:VTIMEZONE
TZID:Europe/London
BEGIN:DAYLIGHT
TZOFFSETFROM:+0000
TZOFFSETTO:+0100
TZNAME:BST
DTSTART:20150329T010000
END:DAYLIGHT
BEGIN:STANDARD
TZOFFSETFROM:+0100
TZOFFSETTO:+0000
TZNAME:GMT
DTSTART:20151025T010000
END:STANDARD
BEGIN:DAYLIGHT
TZOFFSETFROM:+0000
TZOFFSETTO:+0100
TZNAME:BST
DTSTART:20160327T010000
END:DAYLIGHT
BEGIN:STANDARD
TZOFFSETFROM:+0100
TZOFFSETTO:+0000
TZNAME:GMT
DTSTART:20161030T010000
END:STANDARD
END:VTIMEZONE
BEGIN:VEVENT
DTSTART;VALUE=DATE:20160403
DTEND;VALUE=DATE:20160404
DTSTAMP:20260420T180525
CREATED:20160120T184501Z
LAST-MODIFIED:20160120T184501Z
UID:684-1459641600-1459727999@www.bwba.org.uk
SUMMARY:BWBA Friendly Fixture
DESCRIPTION:For more info\, contact Paul Brown\, paul.brown@bwba.org.uk \nThis is an indoor event.
URL:http://www.bwba.org.uk/event/bwba-friendly-fixture-2/
LOCATION:Isle of Wedmore IBC\, Wedmore\, Somerset\, United Kingdom
END:VEVENT
BEGIN:VEVENT
DTSTART;VALUE=DATE:20160313
DTEND;VALUE=DATE:20160314
DTSTAMP:20260420T180525
CREATED:20160120T184111Z
LAST-MODIFIED:20160120T184111Z
UID:682-1457827200-1457913599@www.bwba.org.uk
SUMMARY:BWBA Friendly Fixture
DESCRIPTION:For more info\, contact Paul Brown\, paul.brown@bwba.org.uk \nThis is an indoor event.
URL:http://www.bwba.org.uk/event/bwba-friendly-fixture/
LOCATION:Whiteknights IBC\, Reading\, Barks.\, United Kingdom
END:VEVENT
BEGIN:VEVENT
DTSTART;TZID=Europe/London:20150906T090000
DTEND;TZID=Europe/London:20150909T180000
DTSTAMP:20260420T180525
CREATED:20150612T085655Z
LAST-MODIFIED:20150612T085655Z
UID:170-1441530000-1441821600@www.bwba.org.uk
SUMMARY:National Wheelchair Bowls Championships
DESCRIPTION:National Wheelchair Bowls Championships\,\nSept 6th/7th/8th/9th\, 9am – 6pm each day\,\nBristol IBC (to include the BWBA AGM 2015)
URL:http://www.bwba.org.uk/event/national-wheelchair-bowls-championships/
LOCATION:Somerset
END:VEVENT
BEGIN:VEVENT
DTSTART;TZID=Europe/London:20150808T090000
DTEND;TZID=Europe/London:20150809T180000
DTSTAMP:20260420T180525
CREATED:20150612T085539Z
LAST-MODIFIED:20150612T085539Z
UID:169-1439024400-1439143200@www.bwba.org.uk
SUMMARY:Wedmore Pairs
DESCRIPTION:Wedmore Pairs\,\nSat/Sun 8th/9th Aug\, 9am – 6pm each day\nIsle of Wedmore BC\, Somerset (Outdoors)
URL:http://www.bwba.org.uk/event/wedmore-pairs/
LOCATION:Somerset
END:VEVENT
BEGIN:VEVENT
DTSTART;TZID=Europe/London:20150704T090000
DTEND;TZID=Europe/London:20150705T180000
DTSTAMP:20260420T180525
CREATED:20150612T085421Z
LAST-MODIFIED:20150612T085751Z
UID:168-1436000400-1436119200@www.bwba.org.uk
SUMMARY:MatchPlay Pairs
DESCRIPTION:MatchPlay Pairs\,\nSat/Sun 4th/5th July\, 9am – 6pm each day\,\nTamworth IBC\,
URL:http://www.bwba.org.uk/event/matchplay-pairs/
LOCATION:Somerset
END:VEVENT
BEGIN:VEVENT
DTSTART;VALUE=DATE:20150627
DTEND;VALUE=DATE:20150629
DTSTAMP:20260420T180525
CREATED:20150612T085304Z
LAST-MODIFIED:20150612T085304Z
UID:167-1435363200-1435535999@www.bwba.org.uk
SUMMARY:Home Countries Bowls Test Match England v Wales
DESCRIPTION:Home Countries Bowls Test Match England v Wales\,\nSat/Sun 27th/28th June\,\nBristol IBC
URL:http://www.bwba.org.uk/event/home-countries-bowls-test-match-england-v-wales/
LOCATION:Somerset
END:VEVENT
BEGIN:VEVENT
DTSTART;TZID=Europe/London:20150523T143000
DTEND;TZID=Europe/London:20150523T170000
DTSTAMP:20260420T180525
CREATED:20150612T085033Z
LAST-MODIFIED:20150612T085033Z
UID:165-1432391400-1432400400@www.bwba.org.uk
SUMMARY:BWBA v Aylesbury Town BC Celebration Match
DESCRIPTION:BWBA v Aylesbury Town BC Celebration Match\, 6 rinks outdoors (whites)\,\nSat 23rd May\, 2:30pm\,\nAylesbury\, Bucks.
URL:http://www.bwba.org.uk/event/bwba-v-aylesbury-town-bc-celebration-match/
LOCATION:Somerset
END:VEVENT
BEGIN:VEVENT
DTSTART;TZID=Europe/London:20150415T120000
DTEND;TZID=Europe/London:20150415T170000
DTSTAMP:20260420T180525
CREATED:20150612T085158Z
LAST-MODIFIED:20150612T085158Z
UID:166-1429099200-1429117200@www.bwba.org.uk
SUMMARY:BWBA AGM
DESCRIPTION:BWBA AGM\,\nWed April 15th Noon\,\nBristol IBC
URL:http://www.bwba.org.uk/event/bwba-agm/
LOCATION:Somerset
END:VEVENT
END:VCALENDAR